View In:
ArcGIS JavaScript
ArcGIS Online Map Viewer
ArcGIS Earth
ArcGIS Pro
Service Description: <p style=''text-align:justify;''>This dataset represents a stream network (centreline) of features both natural and artificial across NSW, classified using the Strahler Stream Order method, undertaken by the Department in 2013.</p><p style=''text-align:justify;''>This is a legacy, best endeavours dataset based upon a static (2012) copy of the now NSW Department of Customer Services (DCS) | Spatial Services: NSW Hydro Line. Today this data forms part of the NSW Digital Topographic Database and NSW Foundation Data Framework administered by DCS.</p><p style=''text-align:justify;''>Classification of the stream network was completed using the 'RivEX' tool (<a href='&'>www.rivex.co.uk</a>) in combination with ESRI ArcMap by the Departments Geospatial practitioners.</p><p><b>Method</b></p><p style=''text-align:justify;''>The dataset was initially broken down against 13 Catchment Management Authority (CMA) catchment boundaries (as at 2012), or smaller subsets to aid RivEx processing, which closely aligned to hydrological catchments. The edges of the subsets were checked to ensure hydro lines fell within the correct hydrological unit.</p><p style=''text-align:justify;''>Catchments were processed (classified) in order of stream flow to ensure the order at the end of one catchment was used as the beginning of any it flowed into.</p><p style=''text-align:justify;''>For Victorian and Queensland datasets - any stream that flowed into NSW waterways were extracted (by complete catchment) and processed in exactly the same way as the NSW hydro lines data. Queensland was processed first so the Strahler results could be incorporated in the northern catchments of NSW. Victorian streams were processed before the NSW Murray &amp; Lower Murray Darling areas to ensure continuity of stream order application in NSW. </p><p> A summarised workflow is provided below: </p><ul><li>Input dataset: 2012 DCS NSW Hydro Line</li><li>Break the input dataset into manageable catchments for processing</li><li>Complete topology checks (ArcMap) on catchment subsets</li><li>Undertake basic hydrological enforcement by flipping geometric line directions where required to align with stream flow / class order direction.</li><li>Run Strahler processing (RivEX)</li><li>Undertake visual quality assurance of results &amp; manually resolve issues.</li><li>Recombine catchments to assemble a statewide dataset</li><li>Output dataset: Hydro Line (2012) Strahler Stream Order Classification NSW</li></ul><p style=''margin-left:18pt;''>Note: Victorian and Queensland data was also sought (best available) so accurate Strahler assessments at the State borders could be assessed.</p>
Map Name: Map
Legend
All Layers and Tables
Dynamic Legend
Dynamic All Layers
Layers:
Description: This dataset represents a stream network (centreline) of features both natural and artificial across NSW, classified using the Strahler Stream Order method, undertaken by the Department in 2013.This is a legacy, best endeavours dataset based upon a static (2012) copy of the now NSW Department of Customer Services (DCS) | Spatial Services: NSW Hydro Line. Today this data forms part of the NSW Digital Topographic Database and NSW Foundation Data Framework administered by DCS.Classification of the stream network was completed using the 'RivEX' tool (www.rivex.co.uk) in combination with ESRI ArcMap by the Departments Geospatial practitioners.MethodThe dataset was initially broken down against 13 Catchment Management Authority (CMA) catchment boundaries (as at 2012), or smaller subsets to aid RivEx processing, which closely aligned to hydrological catchments. The edges of the subsets were checked to ensure hydro lines fell within the correct hydrological unit.Catchments were processed (classified) in order of stream flow to ensure the order at the end of one catchment was used as the beginning of any it flowed into.For Victorian and Queensland datasets - any stream that flowed into NSW waterways were extracted (by complete catchment) and processed in exactly the same way as the NSW hydro lines data. Queensland was processed first so the Strahler results could be incorporated in the northern catchments of NSW. Victorian streams were processed before the NSW Murray &amp; Lower Murray Darling areas to ensure continuity of stream order application in NSW. A summarised workflow is provided below: Input dataset: 2012 DCS NSW Hydro LineBreak the input dataset into manageable catchments for processingComplete topology checks (ArcMap) on catchment subsetsUndertake basic hydrological enforcement by flipping geometric line directions where required to align with stream flow / class order direction.Run Strahler processing (RivEX)Undertake visual quality assurance of results &amp; manually resolve issues.Recombine catchments to assemble a statewide datasetOutput dataset: Hydro Line (2012) Strahler Stream Order Classification NSWNote: Victorian and Queensland data was also sought (best available) so accurate Strahler assessments at the State borders could be assessed.
Service Item Id: f620e8e746284441b04325b11bb2e9d9
Copyright Text:
Spatial Reference:
102100
(3857)
LatestVCSWkid(0)
Single Fused Map Cache: true
Tile Info:
- Height: 256.0
- Width: 256.0
- DPI: 96.0
-
Levels of Detail: 24
-
Level ID: 1
[ Start Tile, End Tile ]
- Resolution: 78271.5169639999
- Scale: 2.95828763795777E8
-
Level ID: 2
[ Start Tile, End Tile ]
- Resolution: 39135.7584820001
- Scale: 1.47914381897889E8
-
Level ID: 3
[ Start Tile, End Tile ]
- Resolution: 19567.8792409999
- Scale: 7.3957190948944E7
-
Level ID: 4
[ Start Tile, End Tile ]
- Resolution: 9783.93962049996
- Scale: 3.6978595474472E7
-
Level ID: 5
[ Start Tile, End Tile ]
- Resolution: 4891.96981024998
- Scale: 1.8489297737236E7
- Format: PNG
- Compression Quality: 0.0
- Origin: X: -2.0037508342787E7
Y: 2.0037508342787E7
- Spatial Reference: 102100
(3857)
LatestVCSWkid(0)
Storage Info:
- Storage Format: esriMapCacheStorageModeCompactV2
- Packet Size: 128
Initial Extent:
XMin: 1.5631547530287823E7
YMin: -4453827.035997092
XMax: 1.714731457765941E7
YMax: -3222217.995640389
Spatial Reference: 102100
(3857)
LatestVCSWkid(0)
Full Extent:
XMin: 1.5692893260364095E7
YMin: -4507744.769072667
XMax: 1.771129010394653E7
YMax: -3264540.3422296606
Spatial Reference: 102100
(3857)
LatestVCSWkid(0)
Units: esriMeters
Supported Image Format Types: PNG32,PNG24,PNG,JPG,DIB,TIFF,EMF,PS,PDF,GIF,SVG,SVGZ,BMP
Document Info:
Title: Map
Author:
Comments:
Subject:
Category:
Keywords: Hydro Line,Strahler,Stream Order,NSW Rivers,SEED-Layer-Catalogue
AntialiasingMode: None
TextAntialiasingMode: Force
Supports Dynamic Layers: true
Resampling: false
MaxRecordCount: 2000
MaxSelectionCount: 2000
MaxImageHeight: 4096
MaxImageWidth: 4096
Supported Query Formats: JSON, geoJSON, PBF
Supports Query Data Elements: true
Min Scale: 5.91657527591555E8
Max Scale: 1128.497176
Min LOD: 0
Max LOD: 19
Supports Datum Transformation: true
Child Resources:
Info
Dynamic Layer
Supported Operations:
Export Map
Identify
QueryLegends
QueryDomains
Find
Return Updates