Output dataset: Hydro Line (2012) Strahler Stream Order Classification NSW<\/li><\/ul>Note: Victorian and Queensland data was also sought (best available) so accurate Strahler assessments at the State borders could be assessed.<\/p>",
"mapName": "Map",
"description": "This dataset represents a stream network (centreline) of features both natural and artificial across NSW, classified using the Strahler Stream Order method, undertaken by the Department in 2013.This is a legacy, best endeavours dataset based upon a static (2012) copy of the now NSW Department of Customer Services (DCS) | Spatial Services: NSW Hydro Line. Today this data forms part of the NSW Digital Topographic Database and NSW Foundation Data Framework administered by DCS.Classification of the stream network was completed using the 'RivEX' tool (www.rivex.co.uk) in combination with ESRI ArcMap by the Departments Geospatial practitioners.MethodThe dataset was initially broken down against 13 Catchment Management Authority (CMA) catchment boundaries (as at 2012), or smaller subsets to aid RivEx processing, which closely aligned to hydrological catchments. The edges of the subsets were checked to ensure hydro lines fell within the correct hydrological unit.Catchments were processed (classified) in order of stream flow to ensure the order at the end of one catchment was used as the beginning of any it flowed into.For Victorian and Queensland datasets - any stream that flowed into NSW waterways were extracted (by complete catchment) and processed in exactly the same way as the NSW hydro lines data. Queensland was processed first so the Strahler results could be incorporated in the northern catchments of NSW. Victorian streams were processed before the NSW Murray & Lower Murray Darling areas to ensure continuity of stream order application in NSW. A summarised workflow is provided below: Input dataset: 2012 DCS NSW Hydro LineBreak the input dataset into manageable catchments for processingComplete topology checks (ArcMap) on catchment subsetsUndertake basic hydrological enforcement by flipping geometric line directions where required to align with stream flow / class order direction.Run Strahler processing (RivEX)Undertake visual quality assurance of results & manually resolve issues.Recombine catchments to assemble a statewide datasetOutput dataset: Hydro Line (2012) Strahler Stream Order Classification NSWNote: Victorian and Queensland data was also sought (best available) so accurate Strahler assessments at the State borders could be assessed.",
"copyrightText": "",
"supportsDynamicLayers": true,
"layers": [
{
"id": 0,
"name": "Hydro Line 2012 Strahler Stream Order Classification",
"parentLayerId": -1,
"defaultVisibility": true,
"subLayerIds": null,
"minScale": 0,
"maxScale": 0,
"type": "Feature Layer",
"geometryType": "esriGeometryPolyline",
"supportsDynamicLegends": true
}
],
"tables": [],
"spatialReference": {
"wkid": 102100,
"latestWkid": 3857,
"xyTolerance": 0.001,
"zTolerance": 0.001,
"mTolerance": 0.001,
"falseX": -20037700,
"falseY": -30241100,
"xyUnits": 10000,
"falseZ": -100000,
"zUnits": 10000,
"falseM": -100000,
"mUnits": 10000
},
"singleFusedMapCache": true,
"tileInfo": {
"rows": 256,
"cols": 256,
"dpi": 96,
"format": "PNG",
"compressionQuality": 0,
"origin": {
"x": -2.0037508342787E7,
"y": 2.0037508342787E7
},
"spatialReference": {
"wkid": 102100,
"latestWkid": 3857,
"xyTolerance": 0.001,
"zTolerance": 0.001,
"mTolerance": 0.001,
"falseX": -20037700,
"falseY": -30241100,
"xyUnits": 1.4892314192838538E8,
"falseZ": -100000,
"zUnits": 10000,
"falseM": -100000,
"mUnits": 10000
},
"lods": [
{
"level": 0,
"resolution": 156543.033928,
"scale": 5.91657527591555E8
},
{
"level": 1,
"resolution": 78271.5169639999,
"scale": 2.95828763795777E8
},
{
"level": 2,
"resolution": 39135.7584820001,
"scale": 1.47914381897889E8
},
{
"level": 3,
"resolution": 19567.8792409999,
"scale": 7.3957190948944E7
},
{
"level": 4,
"resolution": 9783.93962049996,
"scale": 3.6978595474472E7
},
{
"level": 5,
"resolution": 4891.96981024998,
"scale": 1.8489297737236E7
},
{
"level": 6,
"resolution": 2445.98490512499,
"scale": 9244648.868618
},
{
"level": 7,
"resolution": 1222.99245256249,
"scale": 4622324.434309
},
{
"level": 8,
"resolution": 611.49622628138,
"scale": 2311162.217155
},
{
"level": 9,
"resolution": 305.748113140558,
"scale": 1155581.108577
},
{
"level": 10,
"resolution": 152.874056570411,
"scale": 577790.554289
},
{
"level": 11,
"resolution": 76.4370282850732,
"scale": 288895.277144
},
{
"level": 12,
"resolution": 38.2185141425366,
"scale": 144447.638572
},
{
"level": 13,
"resolution": 19.1092570712683,
"scale": 72223.819286
},
{
"level": 14,
"resolution": 9.55462853563415,
"scale": 36111.909643
},
{
"level": 15,
"resolution": 4.77731426794937,
"scale": 18055.954822
},
{
"level": 16,
"resolution": 2.38865713397468,
"scale": 9027.977411
},
{
"level": 17,
"resolution": 1.19432856685505,
"scale": 4513.988705
},
{
"level": 18,
"resolution": 0.597164283559817,
"scale": 2256.994353
},
{
"level": 19,
"resolution": 0.298582141647617,
"scale": 1128.497176
},
{
"level": 20,
"resolution": 0.14929107082380833,
"scale": 564.248588
},
{
"level": 21,
"resolution": 0.07464553541190416,
"scale": 282.124294
},
{
"level": 22,
"resolution": 0.03732276770595208,
"scale": 141.062147
},
{
"level": 23,
"resolution": 0.01866138385297604,
"scale": 70.5310735
}
]
},
"storageInfo": {
"storageFormat": "esriMapCacheStorageModeCompactV2",
"packetSize": 128
},
"initialExtent": {
"xmin": 1.5631547530287823E7,
"ymin": -4453827.035997092,
"xmax": 1.714731457765941E7,
"ymax": -3222217.995640389,
"spatialReference": {
"wkid": 102100,
"latestWkid": 3857,
"xyTolerance": 0.001,
"zTolerance": 0.001,
"mTolerance": 0.001,
"falseX": -20037700,
"falseY": -30241100,
"xyUnits": 10000,
"falseZ": -100000,
"zUnits": 10000,
"falseM": -100000,
"mUnits": 10000
}
},
"fullExtent": {
"xmin": 1.5692893260364095E7,
"ymin": -4507744.769072667,
"xmax": 1.771129010394653E7,
"ymax": -3264540.3422296606,
"zmin": -1000,
"zmax": 0,
"spatialReference": {
"wkid": 102100,
"latestWkid": 3857,
"xyTolerance": 0.001,
"zTolerance": 0.001,
"mTolerance": 0.001,
"falseX": -20037700,
"falseY": -30241100,
"xyUnits": 10000,
"falseZ": -100000,
"zUnits": 10000,
"falseM": -100000,
"mUnits": 10000
}
},
"datesInUnknownTimezone": false,
"minScale": 5.91657527591555E8,
"maxScale": 1128.497176,
"minLOD": 0,
"maxLOD": 19,
"units": "esriMeters",
"supportedImageFormatTypes": "PNG32,PNG24,PNG,JPG,DIB,TIFF,EMF,PS,PDF,GIF,SVG,SVGZ,BMP",
"documentInfo": {
"Title": "Map",
"Author": "",
"Comments": "",
"Subject": "",
"Category": "",
"Version": "3.4.0",
"AntialiasingMode": "None",
"TextAntialiasingMode": "Force",
"Keywords": "Hydro Line,Strahler,Stream Order,NSW Rivers,SEED-Layer-Catalogue"
},
"supportsQueryDomains": true,
"capabilities": "Map,Query,Data",
"supportedQueryFormats": "JSON, geoJSON, PBF",
"exportTilesAllowed": false,
"referenceScale": 0.0,
"datumTransformations": [
{
"geoTransforms": [
{
"wkid": 9688,
"latestWkid": 9688,
"transformForward": false,
"name": "GDA_1994_To_WGS_1984_2"
}
]
},
{
"geoTransforms": [
{
"wkid": 9688,
"latestWkid": 9688,
"transformForward": true,
"name": "GDA_1994_To_WGS_1984_2"
}
]
},
{
"geoTransforms": [
{
"wkid": 9688,
"latestWkid": 9688,
"transformForward": false,
"name": "GDA_1994_To_WGS_1984_2"
}
]
},
{
"geoTransforms": [
{
"wkid": 9688,
"latestWkid": 9688,
"transformForward": true,
"name": "GDA_1994_To_WGS_1984_2"
}
]
}
],
"supportsDatumTransformation": true,
"floorAwareMapProperties": {
"defaultFloorFilterSettings": {"isEnabled": false}
},
"archivingInfo": {"supportsHistoricMoment": false},
"supportsClipping": true,
"supportsSpatialFilter": true,
"supportsTimeRelation": true,
"supportsQueryDataElements": true,
"mapUnits": {"uwkid": 9001},
"maxSelectionCount": 2000,
"maxRecordCount": 2000,
"maxImageHeight": 4096,
"maxImageWidth": 4096,
"supportedExtensions": "FeatureServer, WFSServer, WMSServer",
"resampling": false,
"serviceItemId": "f620e8e746284441b04325b11bb2e9d9"
}